BEGIN:VCALENDAR
VERSION:2.0
PRODID:-//ANYSFP - ECPv4.9.13//NONSGML v1.0//EN
CALSCALE:GREGORIAN
METHOD:PUBLISH
X-WR-CALNAME:ANYSFP
X-ORIGINAL-URL:https://nysfoodprocessors.org
X-WR-CALDESC:Events for ANYSFP
BEGIN:VTIMEZONE
TZID:America/New_York
BEGIN:DAYLIGHT
TZOFFSETFROM:-0500
TZOFFSETTO:-0400
TZNAME:EDT
DTSTART:20250309T070000
END:DAYLIGHT
BEGIN:STANDARD
TZOFFSETFROM:-0400
TZOFFSETTO:-0500
TZNAME:EST
DTSTART:20251102T060000
END:STANDARD
END:VTIMEZONE
BEGIN:VEVENT
DTSTART;TZID=America/New_York:20251204T160000
DTEND;TZID=America/New_York:20251204T190000
DTSTAMP:20260420T171107
CREATED:20250407T173832Z
LAST-MODIFIED:20251125T165857Z
UID:30409-1764864000-1764874800@nysfoodprocessors.org
SUMMARY:ANYSFP Holiday Happy Hour
DESCRIPTION:Join us for a new format of an old classic\, featuring heavy hors d’oeuvres\, open bar\, and a visit from Santa! \nCost:\n$50 per ticket\nAdditional sponsorships are also available\n(Ticket sales are now closed) \nLocation:\nThe DeLand House on Main\n1 E. Church Street\nFairport\, NY 14450 \nWe Need Raffle Donations! \nContact Tom Seymour (tseymour@bisonbag.com) with your prize donation \nSponsor the Event\n
URL:https://nysfoodprocessors.org/event/anysfp-holiday-happy-hour-mixer/
END:VEVENT
END:VCALENDAR