BEGIN:VCALENDAR
VERSION:2.0
PRODID:-//ANYSFP - ECPv4.9.13//NONSGML v1.0//EN
CALSCALE:GREGORIAN
METHOD:PUBLISH
X-WR-CALNAME:ANYSFP
X-ORIGINAL-URL:https://nysfoodprocessors.org
X-WR-CALDESC:Events for ANYSFP
BEGIN:VTIMEZONE
TZID:America/New_York
BEGIN:DAYLIGHT
TZOFFSETFROM:-0500
TZOFFSETTO:-0400
TZNAME:EDT
DTSTART:20260308T070000
END:DAYLIGHT
BEGIN:STANDARD
TZOFFSETFROM:-0400
TZOFFSETTO:-0500
TZNAME:EST
DTSTART:20261101T060000
END:STANDARD
END:VTIMEZONE
BEGIN:VEVENT
DTSTART;TZID=America/New_York:20260516T180000
DTEND;TZID=America/New_York:20260516T220000
DTSTAMP:20260420T023547
CREATED:20260217T184745Z
LAST-MODIFIED:20260217T184745Z
UID:32142-1778954400-1778968800@nysfoodprocessors.org
SUMMARY:Holy Childhood 80th Anniversary Gala
DESCRIPTION:We are proud to celebrate 80 years of this remarkable organization on May 16 in the new ballroom at Oak Hill Country Club! This milestone celebration honors the visionaries who started it all\, as well as our families\, staff\, partners\, and others across our community who have strengthened our mission through generations. \nLearn More \n
URL:https://nysfoodprocessors.org/event/holy-childhood-80th-anniversary-gala/
END:VEVENT
END:VCALENDAR