BEGIN:VCALENDAR
VERSION:2.0
PRODID:-//ANYSFP - ECPv4.9.13//NONSGML v1.0//EN
CALSCALE:GREGORIAN
METHOD:PUBLISH
X-WR-CALNAME:ANYSFP
X-ORIGINAL-URL:https://nysfoodprocessors.org
X-WR-CALDESC:Events for ANYSFP
BEGIN:VTIMEZONE
TZID:America/New_York
BEGIN:DAYLIGHT
TZOFFSETFROM:-0500
TZOFFSETTO:-0400
TZNAME:EDT
DTSTART:20260308T070000
END:DAYLIGHT
BEGIN:STANDARD
TZOFFSETFROM:-0400
TZOFFSETTO:-0500
TZNAME:EST
DTSTART:20261101T060000
END:STANDARD
END:VTIMEZONE
BEGIN:VEVENT
DTSTART;TZID=America/New_York:20260417T180000
DTEND;TZID=America/New_York:20260417T220000
DTSTAMP:20260420T171121
CREATED:20260217T183411Z
LAST-MODIFIED:20260217T183411Z
UID:32140-1776448800-1776463200@nysfoodprocessors.org
SUMMARY:Party at Center Ice
DESCRIPTION:Join the biggest party in the 585 while fueling Holy Childhood’s mission of advocating for inclusion and expanding opportunities for children and adults with intellectual and developmental disabilities. \nLearn More \n
URL:https://nysfoodprocessors.org/event/party-center-ice/
END:VEVENT
END:VCALENDAR