BEGIN:VCALENDAR
VERSION:2.0
PRODID:-//ANYSFP - ECPv4.9.13//NONSGML v1.0//EN
CALSCALE:GREGORIAN
METHOD:PUBLISH
X-WR-CALNAME:ANYSFP
X-ORIGINAL-URL:https://nysfoodprocessors.org
X-WR-CALDESC:Events for ANYSFP
BEGIN:VTIMEZONE
TZID:America/New_York
BEGIN:DAYLIGHT
TZOFFSETFROM:-0500
TZOFFSETTO:-0400
TZNAME:EDT
DTSTART:20240310T070000
END:DAYLIGHT
BEGIN:STANDARD
TZOFFSETFROM:-0400
TZOFFSETTO:-0500
TZNAME:EST
DTSTART:20241103T060000
END:STANDARD
END:VTIMEZONE
BEGIN:VEVENT
DTSTART;TZID=America/New_York:20240515T160000
DTEND;TZID=America/New_York:20240515T180000
DTSTAMP:20260419T142246
CREATED:20240502T174741Z
LAST-MODIFIED:20240502T174741Z
UID:30137-1715788800-1715796000@nysfoodprocessors.org
SUMMARY:Speakeasy Networking Event
DESCRIPTION:
URL:https://nysfoodprocessors.org/event/speakeasy-networking-event/
LOCATION:The DeLand House on Main\, 1 E. Church Street\, Fairport\, NY\, 14450\, United States
END:VEVENT
END:VCALENDAR